BEGIN:VCALENDAR
VERSION:2.0
PRODID:-//Human Services Coalition - ECPv6.15.20//NONSGML v1.0//EN
CALSCALE:GREGORIAN
METHOD:PUBLISH
X-WR-CALNAME:Human Services Coalition
X-ORIGINAL-URL:https://hsctc.org
X-WR-CALDESC:Events for Human Services Coalition
REFRESH-INTERVAL;VALUE=DURATION:PT1H
X-Robots-Tag:noindex
X-PUBLISHED-TTL:PT1H
BEGIN:VTIMEZONE
TZID:America/New_York
BEGIN:DAYLIGHT
TZOFFSETFROM:-0500
TZOFFSETTO:-0400
TZNAME:EDT
DTSTART:20240310T070000
END:DAYLIGHT
BEGIN:STANDARD
TZOFFSETFROM:-0400
TZOFFSETTO:-0500
TZNAME:EST
DTSTART:20241103T060000
END:STANDARD
BEGIN:DAYLIGHT
TZOFFSETFROM:-0500
TZOFFSETTO:-0400
TZNAME:EDT
DTSTART:20250309T070000
END:DAYLIGHT
BEGIN:STANDARD
TZOFFSETFROM:-0400
TZOFFSETTO:-0500
TZNAME:EST
DTSTART:20251102T060000
END:STANDARD
BEGIN:DAYLIGHT
TZOFFSETFROM:-0500
TZOFFSETTO:-0400
TZNAME:EDT
DTSTART:20260308T070000
END:DAYLIGHT
BEGIN:STANDARD
TZOFFSETFROM:-0400
TZOFFSETTO:-0500
TZNAME:EST
DTSTART:20261101T060000
END:STANDARD
END:VTIMEZONE
BEGIN:VEVENT
DTSTART;TZID=America/New_York:20251113T090000
DTEND;TZID=America/New_York:20251113T103000
DTSTAMP:20260422T025112
CREATED:20250125T014942Z
LAST-MODIFIED:20250418T154846Z
UID:3694-1763024400-1763029800@hsctc.org
SUMMARY:Executive Exchange Meetup - Nov 2025
DESCRIPTION:Meetup of the Executive Exchange Affinity Group. \nExecutive Exchange (ExEx) supports and inspires not-for profit executive directors in Tompkins County through personal and professional growth\, and networking opportunities.
URL:https://hsctc.org/event/exex1125/
LOCATION:Child Development Council\, 609 W Clinton St\, Ithaca\, NY\, 14850\, United States
CATEGORIES:ExEx Meetings
ORGANIZER;CN="Shasta Savage":MAILTO:ssavage@hsctc.org
END:VEVENT
END:VCALENDAR