BEGIN:VCALENDAR
VERSION:2.0
PRODID:-//Human Services Coalition - ECPv6.15.20//NONSGML v1.0//EN
CALSCALE:GREGORIAN
METHOD:PUBLISH
X-ORIGINAL-URL:https://hsctc.org
X-WR-CALDESC:Events for Human Services Coalition
REFRESH-INTERVAL;VALUE=DURATION:PT1H
X-Robots-Tag:noindex
X-PUBLISHED-TTL:PT1H
BEGIN:VTIMEZONE
TZID:America/New_York
BEGIN:DAYLIGHT
TZOFFSETFROM:-0500
TZOFFSETTO:-0400
TZNAME:EDT
DTSTART:20250309T070000
END:DAYLIGHT
BEGIN:STANDARD
TZOFFSETFROM:-0400
TZOFFSETTO:-0500
TZNAME:EST
DTSTART:20251102T060000
END:STANDARD
BEGIN:DAYLIGHT
TZOFFSETFROM:-0500
TZOFFSETTO:-0400
TZNAME:EDT
DTSTART:20260308T070000
END:DAYLIGHT
BEGIN:STANDARD
TZOFFSETFROM:-0400
TZOFFSETTO:-0500
TZNAME:EST
DTSTART:20261101T060000
END:STANDARD
BEGIN:DAYLIGHT
TZOFFSETFROM:-0500
TZOFFSETTO:-0400
TZNAME:EDT
DTSTART:20270314T070000
END:DAYLIGHT
BEGIN:STANDARD
TZOFFSETFROM:-0400
TZOFFSETTO:-0500
TZNAME:EST
DTSTART:20271107T060000
END:STANDARD
END:VTIMEZONE
BEGIN:VEVENT
DTSTART;TZID=America/New_York:20260514T090000
DTEND;TZID=America/New_York:20260514T103000
DTSTAMP:20260421T102352
CREATED:20260107T154107Z
LAST-MODIFIED:20260107T154107Z
UID:5734-1778749200-1778754600@hsctc.org
SUMMARY:ExEx Meetup
DESCRIPTION:Monthly meetup of the Executive Exchange (ExEx) Affinity Group. \nExecutive Exchange (ExEx) supports and inspires not-for profit executive directors in Tompkins County through personal and professional growth\, and networking opportunities that embody diversity\, equity\, and inclusion in all we do.
URL:https://hsctc.org/event/ee526/
LOCATION:Child Development Council\, 609 W Clinton St\, Ithaca\, NY\, 14850\, United States
CATEGORIES:ExEx Meetings
ORGANIZER;CN="Tamara Beardsley":MAILTO:registration@hsctc.org
END:VEVENT
BEGIN:VEVENT
DTSTART;TZID=America/New_York:20260611T090000
DTEND;TZID=America/New_York:20260611T103000
DTSTAMP:20260421T102352
CREATED:20260107T154210Z
LAST-MODIFIED:20260107T154210Z
UID:5736-1781168400-1781173800@hsctc.org
SUMMARY:ExEx Meetup
DESCRIPTION:Monthly meetup of the Executive Exchange (ExEx) Affinity Group. \nExecutive Exchange (ExEx) supports and inspires not-for profit executive directors in Tompkins County through personal and professional growth\, and networking opportunities that embody diversity\, equity\, and inclusion in all we do.
URL:https://hsctc.org/event/ee626/
LOCATION:Child Development Council\, 609 W Clinton St\, Ithaca\, NY\, 14850\, United States
CATEGORIES:ExEx Meetings
ORGANIZER;CN="Tamara Beardsley":MAILTO:registration@hsctc.org
END:VEVENT
BEGIN:VEVENT
DTSTART;TZID=America/New_York:20260709T090000
DTEND;TZID=America/New_York:20260709T103000
DTSTAMP:20260421T102352
CREATED:20260107T154308Z
LAST-MODIFIED:20260107T154308Z
UID:5738-1783587600-1783593000@hsctc.org
SUMMARY:ExEx Meetup
DESCRIPTION:Monthly meetup of the Executive Exchange (ExEx) Affinity Group. \nExecutive Exchange (ExEx) supports and inspires not-for profit executive directors in Tompkins County through personal and professional growth\, and networking opportunities that embody diversity\, equity\, and inclusion in all we do.
URL:https://hsctc.org/event/ee726/
LOCATION:Child Development Council\, 609 W Clinton St\, Ithaca\, NY\, 14850\, United States
CATEGORIES:ExEx Meetings
ORGANIZER;CN="Tamara Beardsley":MAILTO:registration@hsctc.org
END:VEVENT
BEGIN:VEVENT
DTSTART;TZID=America/New_York:20260813T090000
DTEND;TZID=America/New_York:20260813T103000
DTSTAMP:20260421T102352
CREATED:20260107T154359Z
LAST-MODIFIED:20260107T154359Z
UID:5740-1786611600-1786617000@hsctc.org
SUMMARY:ExEx Meetup
DESCRIPTION:Monthly meetup of the Executive Exchange (ExEx) Affinity Group. \nExecutive Exchange (ExEx) supports and inspires not-for profit executive directors in Tompkins County through personal and professional growth\, and networking opportunities that embody diversity\, equity\, and inclusion in all we do.
URL:https://hsctc.org/event/ee826/
LOCATION:Child Development Council\, 609 W Clinton St\, Ithaca\, NY\, 14850\, United States
CATEGORIES:ExEx Meetings
ORGANIZER;CN="Tamara Beardsley":MAILTO:registration@hsctc.org
END:VEVENT
BEGIN:VEVENT
DTSTART;TZID=America/New_York:20260910T090000
DTEND;TZID=America/New_York:20260910T103000
DTSTAMP:20260421T102352
CREATED:20260107T154444Z
LAST-MODIFIED:20260107T154444Z
UID:5742-1789030800-1789036200@hsctc.org
SUMMARY:ExEx Meetup
DESCRIPTION:Monthly meetup of the Executive Exchange (ExEx) Affinity Group. \nExecutive Exchange (ExEx) supports and inspires not-for profit executive directors in Tompkins County through personal and professional growth\, and networking opportunities that embody diversity\, equity\, and inclusion in all we do.
URL:https://hsctc.org/event/ee926/
LOCATION:Child Development Council\, 609 W Clinton St\, Ithaca\, NY\, 14850\, United States
CATEGORIES:ExEx Meetings
ORGANIZER;CN="Tamara Beardsley":MAILTO:registration@hsctc.org
END:VEVENT
BEGIN:VEVENT
DTSTART;TZID=America/New_York:20261008T090000
DTEND;TZID=America/New_York:20261008T103000
DTSTAMP:20260421T102352
CREATED:20260107T154527Z
LAST-MODIFIED:20260107T154527Z
UID:5744-1791450000-1791455400@hsctc.org
SUMMARY:ExEx Meetup
DESCRIPTION:Monthly meetup of the Executive Exchange (ExEx) Affinity Group. \nExecutive Exchange (ExEx) supports and inspires not-for profit executive directors in Tompkins County through personal and professional growth\, and networking opportunities that embody diversity\, equity\, and inclusion in all we do.
URL:https://hsctc.org/event/ee1026/
LOCATION:Child Development Council\, 609 W Clinton St\, Ithaca\, NY\, 14850\, United States
CATEGORIES:ExEx Meetings
ORGANIZER;CN="Tamara Beardsley":MAILTO:registration@hsctc.org
END:VEVENT
BEGIN:VEVENT
DTSTART;TZID=America/New_York:20261112T090000
DTEND;TZID=America/New_York:20261112T103000
DTSTAMP:20260421T102352
CREATED:20260107T154632Z
LAST-MODIFIED:20260107T154632Z
UID:5746-1794474000-1794479400@hsctc.org
SUMMARY:ExEx Meetup
DESCRIPTION:Monthly meetup of the Executive Exchange (ExEx) Affinity Group. \nExecutive Exchange (ExEx) supports and inspires not-for profit executive directors in Tompkins County through personal and professional growth\, and networking opportunities that embody diversity\, equity\, and inclusion in all we do.
URL:https://hsctc.org/event/ee1126/
LOCATION:Child Development Council\, 609 W Clinton St\, Ithaca\, NY\, 14850\, United States
CATEGORIES:ExEx Meetings
ORGANIZER;CN="Tamara Beardsley":MAILTO:registration@hsctc.org
END:VEVENT
BEGIN:VEVENT
DTSTART;TZID=America/New_York:20261210T090000
DTEND;TZID=America/New_York:20261210T103000
DTSTAMP:20260421T102352
CREATED:20260107T154727Z
LAST-MODIFIED:20260107T154727Z
UID:5748-1796893200-1796898600@hsctc.org
SUMMARY:ExEx Meetup
DESCRIPTION:Monthly meetup of the Executive Exchange (ExEx) Affinity Group. \nExecutive Exchange (ExEx) supports and inspires not-for profit executive directors in Tompkins County through personal and professional growth\, and networking opportunities that embody diversity\, equity\, and inclusion in all we do.
URL:https://hsctc.org/event/ee1226/
LOCATION:Child Development Council\, 609 W Clinton St\, Ithaca\, NY\, 14850\, United States
CATEGORIES:ExEx Meetings
ORGANIZER;CN="Tamara Beardsley":MAILTO:registration@hsctc.org
END:VEVENT
END:VCALENDAR