BEGIN:VCALENDAR
VERSION:2.0
PRODID:-//Human Services Coalition - ECPv6.15.20//NONSGML v1.0//EN
CALSCALE:GREGORIAN
METHOD:PUBLISH
X-WR-CALNAME:Human Services Coalition
X-ORIGINAL-URL:https://hsctc.org
X-WR-CALDESC:Events for Human Services Coalition
REFRESH-INTERVAL;VALUE=DURATION:PT1H
X-Robots-Tag:noindex
X-PUBLISHED-TTL:PT1H
BEGIN:VTIMEZONE
TZID:America/New_York
BEGIN:DAYLIGHT
TZOFFSETFROM:-0500
TZOFFSETTO:-0400
TZNAME:EDT
DTSTART:20250309T070000
END:DAYLIGHT
BEGIN:STANDARD
TZOFFSETFROM:-0400
TZOFFSETTO:-0500
TZNAME:EST
DTSTART:20251102T060000
END:STANDARD
BEGIN:DAYLIGHT
TZOFFSETFROM:-0500
TZOFFSETTO:-0400
TZNAME:EDT
DTSTART:20260308T070000
END:DAYLIGHT
BEGIN:STANDARD
TZOFFSETFROM:-0400
TZOFFSETTO:-0500
TZNAME:EST
DTSTART:20261101T060000
END:STANDARD
BEGIN:DAYLIGHT
TZOFFSETFROM:-0500
TZOFFSETTO:-0400
TZNAME:EDT
DTSTART:20270314T070000
END:DAYLIGHT
BEGIN:STANDARD
TZOFFSETFROM:-0400
TZOFFSETTO:-0500
TZNAME:EST
DTSTART:20271107T060000
END:STANDARD
END:VTIMEZONE
BEGIN:VEVENT
DTSTART;TZID=America/New_York:20260603T093000
DTEND;TZID=America/New_York:20260603T110000
DTSTAMP:20260421T215858
CREATED:20260107T143100Z
LAST-MODIFIED:20260107T143100Z
UID:5659-1780479000-1780484400@hsctc.org
SUMMARY:Homeless & Housing Task Force Meeting
DESCRIPTION:The Homeless and Housing Task Force (HHTF)\, facilitated by the Human Services Coalition\, presents topics that educate and update the community on emergency shelter\, supplemental food programs\, affordable housing\, transportation\, and other basic needs of people currently experiencing or at risk of homelessness. The HHTF is also the educational arm of the Continuum of Care (CoC). \nMeeting are free and open to the public. \nvia Zoom
URL:https://hsctc.org/event/626/
CATEGORIES:Homeless and Housing Task Force
ORGANIZER;CN="Liddy Bargar":MAILTO:lbargar@hsctc.org
END:VEVENT
END:VCALENDAR