BEGIN:VCALENDAR
VERSION:2.0
PRODID:-//Human Services Coalition - ECPv6.15.20//NONSGML v1.0//EN
CALSCALE:GREGORIAN
METHOD:PUBLISH
X-ORIGINAL-URL:https://hsctc.org
X-WR-CALDESC:Events for Human Services Coalition
REFRESH-INTERVAL;VALUE=DURATION:PT1H
X-Robots-Tag:noindex
X-PUBLISHED-TTL:PT1H
BEGIN:VTIMEZONE
TZID:America/New_York
BEGIN:DAYLIGHT
TZOFFSETFROM:-0500
TZOFFSETTO:-0400
TZNAME:EDT
DTSTART:20240310T070000
END:DAYLIGHT
BEGIN:STANDARD
TZOFFSETFROM:-0400
TZOFFSETTO:-0500
TZNAME:EST
DTSTART:20241103T060000
END:STANDARD
BEGIN:DAYLIGHT
TZOFFSETFROM:-0500
TZOFFSETTO:-0400
TZNAME:EDT
DTSTART:20250309T070000
END:DAYLIGHT
BEGIN:STANDARD
TZOFFSETFROM:-0400
TZOFFSETTO:-0500
TZNAME:EST
DTSTART:20251102T060000
END:STANDARD
BEGIN:DAYLIGHT
TZOFFSETFROM:-0500
TZOFFSETTO:-0400
TZNAME:EDT
DTSTART:20260308T070000
END:DAYLIGHT
BEGIN:STANDARD
TZOFFSETFROM:-0400
TZOFFSETTO:-0500
TZNAME:EST
DTSTART:20261101T060000
END:STANDARD
END:VTIMEZONE
BEGIN:VEVENT
DTSTART;TZID=America/New_York:20251107T120000
DTEND;TZID=America/New_York:20251107T131500
DTSTAMP:20260422T063725
CREATED:20250124T210535Z
LAST-MODIFIED:20250124T212627Z
UID:3635-1762516800-1762521300@hsctc.org
SUMMARY:Longterm Care Committee Meeting - Nov 2025
DESCRIPTION:The Long Term Care Committee (LTC) is comprised of community members\, caregivers\, medical and human service providers\, and professionals representing a broad array of healthcare and residential services\, businesses\, and programs that serve the aging population and people with disabilities. Long term care refers to the variety of services to meet an individual’s health and personal care needs\, over a short or long period of time. Services are provided in different settings including the home\, community\, or a facility. \nThe LTC Committee is the designated Long Term Care Council for Tompkins County Office for the Aging and New York Connects Program. As such\, it plays a vital role in the local planning process that identifies needs of aging residents\, people with disabilities\, and people with long term care needs. \nMeeting is virtual via Zoom – contact the organizer for the link.
URL:https://hsctc.org/event/ltcnov2025/
CATEGORIES:Long Term Care Committee Meetings
ORGANIZER;CN="Karen Brown":MAILTO:kbrown@hsctc.org
END:VEVENT
BEGIN:VEVENT
DTSTART;TZID=America/New_York:20251110T120000
DTEND;TZID=America/New_York:20251110T131500
DTSTAMP:20260422T063725
CREATED:20250123T030541Z
LAST-MODIFIED:20250124T212658Z
UID:3627-1762776000-1762780500@hsctc.org
SUMMARY:Health Planning Council Advisory Board Meeting - Nov 2025
DESCRIPTION:The Tompkins Health Network Board oversees the Health Planning Council’s activities in Tompkins County\, New York.\nThis meeting will be virtual via Zoom.  Contact the organizer for the link.
URL:https://hsctc.org/event/hpcadvisorynov2025/
LOCATION:TBD\, Ithaca\, NY\, 14850\, United States
CATEGORIES:HPC Advisory Board Meetings
ORGANIZER;CN="Nicole Zulu":MAILTO:nzulu@hsctc.org
END:VEVENT
BEGIN:VEVENT
DTSTART;TZID=America/New_York:20251119T120000
DTEND;TZID=America/New_York:20251119T130000
DTSTAMP:20260422T063725
CREATED:20250124T214455Z
LAST-MODIFIED:20250124T214455Z
UID:3655-1763553600-1763557200@hsctc.org
SUMMARY:HPC Executive Committee Meeting - November 2025
DESCRIPTION:Meeting of the Executive Committee of the Health Planning Council. \nMeetings are virtual via Zoom\, contact the organizer for the link.
URL:https://hsctc.org/event/hpcexnov2025/
CATEGORIES:HPC Executive Committee Meetings
ORGANIZER;CN="Nicole Zulu":MAILTO:nzulu@hsctc.org
END:VEVENT
END:VCALENDAR