BEGIN:VCALENDAR
VERSION:2.0
PRODID:-//Human Services Coalition - ECPv6.15.20//NONSGML v1.0//EN
CALSCALE:GREGORIAN
METHOD:PUBLISH
X-ORIGINAL-URL:https://hsctc.org
X-WR-CALDESC:Events for Human Services Coalition
REFRESH-INTERVAL;VALUE=DURATION:PT1H
X-Robots-Tag:noindex
X-PUBLISHED-TTL:PT1H
BEGIN:VTIMEZONE
TZID:America/New_York
BEGIN:DAYLIGHT
TZOFFSETFROM:-0500
TZOFFSETTO:-0400
TZNAME:EDT
DTSTART:20240310T070000
END:DAYLIGHT
BEGIN:STANDARD
TZOFFSETFROM:-0400
TZOFFSETTO:-0500
TZNAME:EST
DTSTART:20241103T060000
END:STANDARD
BEGIN:DAYLIGHT
TZOFFSETFROM:-0500
TZOFFSETTO:-0400
TZNAME:EDT
DTSTART:20250309T070000
END:DAYLIGHT
BEGIN:STANDARD
TZOFFSETFROM:-0400
TZOFFSETTO:-0500
TZNAME:EST
DTSTART:20251102T060000
END:STANDARD
BEGIN:DAYLIGHT
TZOFFSETFROM:-0500
TZOFFSETTO:-0400
TZNAME:EDT
DTSTART:20260308T070000
END:DAYLIGHT
BEGIN:STANDARD
TZOFFSETFROM:-0400
TZOFFSETTO:-0500
TZNAME:EST
DTSTART:20261101T060000
END:STANDARD
END:VTIMEZONE
BEGIN:VEVENT
DTSTART;TZID=America/New_York:20251205T120000
DTEND;TZID=America/New_York:20251205T130000
DTSTAMP:20260422T050425
CREATED:20250124T212842Z
LAST-MODIFIED:20250124T213303Z
UID:3644-1764936000-1764939600@hsctc.org
SUMMARY:Community Health and Access Committee Meeting - Dec 2025
DESCRIPTION:The Community Health and Access Committee\, a standing committee of the Health Planning Council Advisory Board. \nMeetings are virtual via Zoom\, contact the meeting organizer for the link.
URL:https://hsctc.org/event/chacdec2025/
CATEGORIES:Community Health and Access Committee Meetings
ORGANIZER;CN="Nicole Zulu":MAILTO:nzulu@hsctc.org
END:VEVENT
END:VCALENDAR