BEGIN:VCALENDAR
VERSION:2.0
PRODID:-//Human Services Coalition - ECPv6.15.20//NONSGML v1.0//EN
CALSCALE:GREGORIAN
METHOD:PUBLISH
X-WR-CALNAME:Human Services Coalition
X-ORIGINAL-URL:https://hsctc.org
X-WR-CALDESC:Events for Human Services Coalition
REFRESH-INTERVAL;VALUE=DURATION:PT1H
X-Robots-Tag:noindex
X-PUBLISHED-TTL:PT1H
BEGIN:VTIMEZONE
TZID:America/New_York
BEGIN:DAYLIGHT
TZOFFSETFROM:-0500
TZOFFSETTO:-0400
TZNAME:EDT
DTSTART:20250309T070000
END:DAYLIGHT
BEGIN:STANDARD
TZOFFSETFROM:-0400
TZOFFSETTO:-0500
TZNAME:EST
DTSTART:20251102T060000
END:STANDARD
BEGIN:DAYLIGHT
TZOFFSETFROM:-0500
TZOFFSETTO:-0400
TZNAME:EDT
DTSTART:20260308T070000
END:DAYLIGHT
BEGIN:STANDARD
TZOFFSETFROM:-0400
TZOFFSETTO:-0500
TZNAME:EST
DTSTART:20261101T060000
END:STANDARD
BEGIN:DAYLIGHT
TZOFFSETFROM:-0500
TZOFFSETTO:-0400
TZNAME:EDT
DTSTART:20270314T070000
END:DAYLIGHT
BEGIN:STANDARD
TZOFFSETFROM:-0400
TZOFFSETTO:-0500
TZNAME:EST
DTSTART:20271107T060000
END:STANDARD
END:VTIMEZONE
BEGIN:VEVENT
DTSTART;TZID=America/New_York:20260511T120000
DTEND;TZID=America/New_York:20260511T133000
DTSTAMP:20260421T173006
CREATED:20260309T183448Z
LAST-MODIFIED:20260309T183448Z
UID:5967-1778500800-1778506200@hsctc.org
SUMMARY:Health Planning Council Advisory Board Meeting
DESCRIPTION:The Tompkins Health Network Board oversees the Health Planning Council’s activities in Tompkins County\, New York. \nThis meeting will be virtual via Zoom.  Contact the organizer for the link.
URL:https://hsctc.org/event/hpc526/
CATEGORIES:HPC Advisory Board Meetings
ORGANIZER;CN="Nicole Zulu":MAILTO:nzulu@hsctc.org
END:VEVENT
BEGIN:VEVENT
DTSTART;TZID=America/New_York:20260527T110000
DTEND;TZID=America/New_York:20260527T120000
DTSTAMP:20260421T173006
CREATED:20260309T192310Z
LAST-MODIFIED:20260309T192310Z
UID:5992-1779879600-1779883200@hsctc.org
SUMMARY:HPC Executive Committee Meeting
DESCRIPTION:Meeting of the Executive Committee of the Health Planning Council. \nMeetings are virtual via Zoom\, contact the organizer for the link.
URL:https://hsctc.org/event/hpcex526/
CATEGORIES:HPC Executive Committee Meetings
ORGANIZER;CN="Nicole Zulu":MAILTO:nzulu@hsctc.org
END:VEVENT
BEGIN:VEVENT
DTSTART;TZID=America/New_York:20260608T120000
DTEND;TZID=America/New_York:20260608T133000
DTSTAMP:20260421T173006
CREATED:20260309T184319Z
LAST-MODIFIED:20260309T184319Z
UID:5970-1780920000-1780925400@hsctc.org
SUMMARY:Health Planning Council Advisory Board Meeting
DESCRIPTION:The Tompkins Health Network Board oversees the Health Planning Council’s activities in Tompkins County\, New York. \nThis meeting will be virtual via Zoom.  Contact the organizer for the link.
URL:https://hsctc.org/event/hpc626/
CATEGORIES:HPC Advisory Board Meetings
ORGANIZER;CN="Nicole Zulu":MAILTO:nzulu@hsctc.org
END:VEVENT
BEGIN:VEVENT
DTSTART;TZID=America/New_York:20260722T110000
DTEND;TZID=America/New_York:20260722T120000
DTSTAMP:20260421T173006
CREATED:20260309T192500Z
LAST-MODIFIED:20260309T192500Z
UID:5994-1784718000-1784721600@hsctc.org
SUMMARY:HPC Executive Committee Meeting
DESCRIPTION:Meeting of the Executive Committee of the Health Planning Council. \nMeetings are virtual via Zoom\, contact the organizer for the link.
URL:https://hsctc.org/event/hpcex726/
CATEGORIES:HPC Executive Committee Meetings
ORGANIZER;CN="Nicole Zulu":MAILTO:nzulu@hsctc.org
END:VEVENT
BEGIN:VEVENT
DTSTART;TZID=America/New_York:20260914T120000
DTEND;TZID=America/New_York:20260914T133000
DTSTAMP:20260421T173006
CREATED:20260309T184503Z
LAST-MODIFIED:20260309T184503Z
UID:5969-1789387200-1789392600@hsctc.org
SUMMARY:Health Planning Council Advisory Board Meeting
DESCRIPTION:The Tompkins Health Network Board oversees the Health Planning Council’s activities in Tompkins County\, New York. \nThis meeting will be virtual via Zoom.  Contact the organizer for the link.
URL:https://hsctc.org/event/hpc926/
CATEGORIES:HPC Advisory Board Meetings
ORGANIZER;CN="Nicole Zulu":MAILTO:nzulu@hsctc.org
END:VEVENT
BEGIN:VEVENT
DTSTART;TZID=America/New_York:20260923T110000
DTEND;TZID=America/New_York:20260923T120000
DTSTAMP:20260421T173006
CREATED:20260309T192638Z
LAST-MODIFIED:20260309T192638Z
UID:5996-1790161200-1790164800@hsctc.org
SUMMARY:HPC Executive Committee Meeting
DESCRIPTION:Meeting of the Executive Committee of the Health Planning Council. \nMeetings are virtual via Zoom\, contact the organizer for the link.
URL:https://hsctc.org/event/hpcex926/
CATEGORIES:HPC Executive Committee Meetings
ORGANIZER;CN="Nicole Zulu":MAILTO:nzulu@hsctc.org
END:VEVENT
BEGIN:VEVENT
DTSTART;TZID=America/New_York:20261109T120000
DTEND;TZID=America/New_York:20261109T133000
DTSTAMP:20260421T173006
CREATED:20260309T184624Z
LAST-MODIFIED:20260309T184624Z
UID:5973-1794225600-1794231000@hsctc.org
SUMMARY:Health Planning Council Advisory Board Meeting
DESCRIPTION:The Tompkins Health Network Board oversees the Health Planning Council’s activities in Tompkins County\, New York. \nThis meeting will be virtual via Zoom.  Contact the organizer for the link.
URL:https://hsctc.org/event/hpc1126/
CATEGORIES:HPC Advisory Board Meetings
ORGANIZER;CN="Nicole Zulu":MAILTO:nzulu@hsctc.org
END:VEVENT
BEGIN:VEVENT
DTSTART;TZID=America/New_York:20261118T110000
DTEND;TZID=America/New_York:20261118T120000
DTSTAMP:20260421T173006
CREATED:20260309T192806Z
LAST-MODIFIED:20260309T192806Z
UID:5998-1794999600-1795003200@hsctc.org
SUMMARY:HPC Executive Committee Meeting
DESCRIPTION:Meeting of the Executive Committee of the Health Planning Council. \nMeetings are virtual via Zoom\, contact the organizer for the link.
URL:https://hsctc.org/event/hpcex1126/
CATEGORIES:HPC Executive Committee Meetings
ORGANIZER;CN="Nicole Zulu":MAILTO:nzulu@hsctc.org
END:VEVENT
END:VCALENDAR