BEGIN:VCALENDAR
VERSION:2.0
PRODID:-//Human Services Coalition - ECPv6.15.20//NONSGML v1.0//EN
CALSCALE:GREGORIAN
METHOD:PUBLISH
X-ORIGINAL-URL:https://hsctc.org
X-WR-CALDESC:Events for Human Services Coalition
REFRESH-INTERVAL;VALUE=DURATION:PT1H
X-Robots-Tag:noindex
X-PUBLISHED-TTL:PT1H
BEGIN:VTIMEZONE
TZID:America/New_York
BEGIN:DAYLIGHT
TZOFFSETFROM:-0500
TZOFFSETTO:-0400
TZNAME:EDT
DTSTART:20250309T070000
END:DAYLIGHT
BEGIN:STANDARD
TZOFFSETFROM:-0400
TZOFFSETTO:-0500
TZNAME:EST
DTSTART:20251102T060000
END:STANDARD
BEGIN:DAYLIGHT
TZOFFSETFROM:-0500
TZOFFSETTO:-0400
TZNAME:EDT
DTSTART:20260308T070000
END:DAYLIGHT
BEGIN:STANDARD
TZOFFSETFROM:-0400
TZOFFSETTO:-0500
TZNAME:EST
DTSTART:20261101T060000
END:STANDARD
BEGIN:DAYLIGHT
TZOFFSETFROM:-0500
TZOFFSETTO:-0400
TZNAME:EDT
DTSTART:20270314T070000
END:DAYLIGHT
BEGIN:STANDARD
TZOFFSETFROM:-0400
TZOFFSETTO:-0500
TZNAME:EST
DTSTART:20271107T060000
END:STANDARD
END:VTIMEZONE
BEGIN:VEVENT
DTSTART;TZID=America/New_York:20260528T133000
DTEND;TZID=America/New_York:20260528T163000
DTSTAMP:20260422T035916
CREATED:20260420T183225Z
LAST-MODIFIED:20260420T183713Z
UID:6130-1779975000-1779985800@hsctc.org
SUMMARY:HSC Workshop Series: Leading with Intention with Amber Alpizar
DESCRIPTION:Leading with Intention\nwith Amber Alpizar\nThursday\, May 28\, 2026\n1:30 pm – 4:30 pm\nIn-person at the Tompkins County Public Library\, Borg Warner Room\n$70 – pre-registration is required \nLeaders today face unprecedented pressure—navigating burnout\, leading through rapid and ongoing change\, managing limited resources\, constant complex decisions\, and evolving trust dynamics with their teams. In this environment\, leadership requires both resilience and deep alignment with mission and values. This workshop helps leaders re‑ground in their core values\, build trust\, and lead with clarity and confidence during times of uncertainty. Drawing on Brené Brown’s Dare to Lead® framework and the 15 Commitments of Conscious Leadership\, participants gain practical tools to lead from the inside out—balancing compassion with accountability\, courage with care.
URL:https://hsctc.org/event/workshop52826/
LOCATION:Tompkins County Public Library\, 101 E. Green Street\, Ithaca\, NY\, 14850\, United States
CATEGORIES:HSC Workshop Series
ORGANIZER;CN="Tamara Beardsley":MAILTO:registration@hsctc.org
END:VEVENT
END:VCALENDAR